BEGIN:VCALENDAR
VERSION:2.0
PRODID:-//Chaos Athletics - ECPv6.15.17.1//NONSGML v1.0//EN
CALSCALE:GREGORIAN
METHOD:PUBLISH
X-WR-CALNAME:Chaos Athletics
X-ORIGINAL-URL:https://chaosathleticsnm.com
X-WR-CALDESC:Events for Chaos Athletics
REFRESH-INTERVAL;VALUE=DURATION:PT1H
X-Robots-Tag:noindex
X-PUBLISHED-TTL:PT1H
BEGIN:VTIMEZONE
TZID:UTC
BEGIN:STANDARD
TZOFFSETFROM:+0000
TZOFFSETTO:+0000
TZNAME:UTC
DTSTART:20250101T000000
END:STANDARD
END:VTIMEZONE
BEGIN:VEVENT
DTSTART;TZID=UTC:20260504T190000
DTEND;TZID=UTC:20260504T203000
DTSTAMP:20260421T235930
CREATED:20260402T181553Z
LAST-MODIFIED:20260402T181713Z
UID:10000049-1777921200-1777926600@chaosathleticsnm.com
SUMMARY:Open Gym
DESCRIPTION:More reps. Less pressure.Come work skills\, burn energy\, and actually have fun doing it.$10. Show up ready.
URL:https://chaosathleticsnm.com/event/open-gym/2026-05-04/
CATEGORIES:Upcoming Events
ATTACH;FMTTYPE=image/png:https://chaosathleticsnm.com/wp-content/uploads/2026/04/Screenshot-2026-04-02-at-12.30.28-PM.png
END:VEVENT
BEGIN:VEVENT
DTSTART;TZID=UTC:20260506T190000
DTEND;TZID=UTC:20260506T203000
DTSTAMP:20260421T235930
CREATED:20260402T181553Z
LAST-MODIFIED:20260402T181713Z
UID:10000050-1778094000-1778099400@chaosathleticsnm.com
SUMMARY:Open Gym
DESCRIPTION:More reps. Less pressure.Come work skills\, burn energy\, and actually have fun doing it.$10. Show up ready.
URL:https://chaosathleticsnm.com/event/open-gym/2026-05-06/
CATEGORIES:Upcoming Events
ATTACH;FMTTYPE=image/png:https://chaosathleticsnm.com/wp-content/uploads/2026/04/Screenshot-2026-04-02-at-12.30.28-PM.png
END:VEVENT
BEGIN:VEVENT
DTSTART;TZID=UTC:20260508T190000
DTEND;TZID=UTC:20260508T203000
DTSTAMP:20260421T235930
CREATED:20260402T181553Z
LAST-MODIFIED:20260402T181713Z
UID:10000051-1778266800-1778272200@chaosathleticsnm.com
SUMMARY:Open Gym
DESCRIPTION:More reps. Less pressure.Come work skills\, burn energy\, and actually have fun doing it.$10. Show up ready.
URL:https://chaosathleticsnm.com/event/open-gym/2026-05-08/
CATEGORIES:Upcoming Events
ATTACH;FMTTYPE=image/png:https://chaosathleticsnm.com/wp-content/uploads/2026/04/Screenshot-2026-04-02-at-12.30.28-PM.png
END:VEVENT
BEGIN:VEVENT
DTSTART;TZID=UTC:20260509T180000
DTEND;TZID=UTC:20260509T193000
DTSTAMP:20260421T235930
CREATED:20260402T181906Z
LAST-MODIFIED:20260402T181906Z
UID:10000101-1778349600-1778355000@chaosathleticsnm.com
SUMMARY:Open Gym
DESCRIPTION:More reps. Less pressure.Come work skills\, burn energy\, and actually have fun doing it.$10. Show up ready.
URL:https://chaosathleticsnm.com/event/open-gym-2/2026-05-09/
CATEGORIES:Upcoming Events
ATTACH;FMTTYPE=image/png:https://chaosathleticsnm.com/wp-content/uploads/2026/04/Screenshot-2026-04-02-at-12.30.28-PM.png
END:VEVENT
BEGIN:VEVENT
DTSTART;TZID=UTC:20260511T190000
DTEND;TZID=UTC:20260511T203000
DTSTAMP:20260421T235930
CREATED:20260402T181553Z
LAST-MODIFIED:20260402T181713Z
UID:10000052-1778526000-1778531400@chaosathleticsnm.com
SUMMARY:Open Gym
DESCRIPTION:More reps. Less pressure.Come work skills\, burn energy\, and actually have fun doing it.$10. Show up ready.
URL:https://chaosathleticsnm.com/event/open-gym/2026-05-11/
CATEGORIES:Upcoming Events
ATTACH;FMTTYPE=image/png:https://chaosathleticsnm.com/wp-content/uploads/2026/04/Screenshot-2026-04-02-at-12.30.28-PM.png
END:VEVENT
BEGIN:VEVENT
DTSTART;TZID=UTC:20260513T190000
DTEND;TZID=UTC:20260513T203000
DTSTAMP:20260421T235930
CREATED:20260402T181553Z
LAST-MODIFIED:20260402T181713Z
UID:10000053-1778698800-1778704200@chaosathleticsnm.com
SUMMARY:Open Gym
DESCRIPTION:More reps. Less pressure.Come work skills\, burn energy\, and actually have fun doing it.$10. Show up ready.
URL:https://chaosathleticsnm.com/event/open-gym/2026-05-13/
CATEGORIES:Upcoming Events
ATTACH;FMTTYPE=image/png:https://chaosathleticsnm.com/wp-content/uploads/2026/04/Screenshot-2026-04-02-at-12.30.28-PM.png
END:VEVENT
BEGIN:VEVENT
DTSTART;TZID=UTC:20260515T190000
DTEND;TZID=UTC:20260515T203000
DTSTAMP:20260421T235930
CREATED:20260402T181553Z
LAST-MODIFIED:20260402T181713Z
UID:10000054-1778871600-1778877000@chaosathleticsnm.com
SUMMARY:Open Gym
DESCRIPTION:More reps. Less pressure.Come work skills\, burn energy\, and actually have fun doing it.$10. Show up ready.
URL:https://chaosathleticsnm.com/event/open-gym/2026-05-15/
CATEGORIES:Upcoming Events
ATTACH;FMTTYPE=image/png:https://chaosathleticsnm.com/wp-content/uploads/2026/04/Screenshot-2026-04-02-at-12.30.28-PM.png
END:VEVENT
BEGIN:VEVENT
DTSTART;TZID=UTC:20260516T180000
DTEND;TZID=UTC:20260516T193000
DTSTAMP:20260421T235930
CREATED:20260402T181906Z
LAST-MODIFIED:20260402T181906Z
UID:10000102-1778954400-1778959800@chaosathleticsnm.com
SUMMARY:Open Gym
DESCRIPTION:More reps. Less pressure.Come work skills\, burn energy\, and actually have fun doing it.$10. Show up ready.
URL:https://chaosathleticsnm.com/event/open-gym-2/2026-05-16/
CATEGORIES:Upcoming Events
ATTACH;FMTTYPE=image/png:https://chaosathleticsnm.com/wp-content/uploads/2026/04/Screenshot-2026-04-02-at-12.30.28-PM.png
END:VEVENT
BEGIN:VEVENT
DTSTART;TZID=UTC:20260518T190000
DTEND;TZID=UTC:20260518T203000
DTSTAMP:20260421T235930
CREATED:20260402T181553Z
LAST-MODIFIED:20260402T181713Z
UID:10000055-1779130800-1779136200@chaosathleticsnm.com
SUMMARY:Open Gym
DESCRIPTION:More reps. Less pressure.Come work skills\, burn energy\, and actually have fun doing it.$10. Show up ready.
URL:https://chaosathleticsnm.com/event/open-gym/2026-05-18/
CATEGORIES:Upcoming Events
ATTACH;FMTTYPE=image/png:https://chaosathleticsnm.com/wp-content/uploads/2026/04/Screenshot-2026-04-02-at-12.30.28-PM.png
END:VEVENT
BEGIN:VEVENT
DTSTART;TZID=UTC:20260520T190000
DTEND;TZID=UTC:20260520T203000
DTSTAMP:20260421T235930
CREATED:20260402T181553Z
LAST-MODIFIED:20260402T181713Z
UID:10000056-1779303600-1779309000@chaosathleticsnm.com
SUMMARY:Open Gym
DESCRIPTION:More reps. Less pressure.Come work skills\, burn energy\, and actually have fun doing it.$10. Show up ready.
URL:https://chaosathleticsnm.com/event/open-gym/2026-05-20/
CATEGORIES:Upcoming Events
ATTACH;FMTTYPE=image/png:https://chaosathleticsnm.com/wp-content/uploads/2026/04/Screenshot-2026-04-02-at-12.30.28-PM.png
END:VEVENT
BEGIN:VEVENT
DTSTART;TZID=UTC:20260522T190000
DTEND;TZID=UTC:20260522T203000
DTSTAMP:20260421T235930
CREATED:20260402T181553Z
LAST-MODIFIED:20260402T181713Z
UID:10000057-1779476400-1779481800@chaosathleticsnm.com
SUMMARY:Open Gym
DESCRIPTION:More reps. Less pressure.Come work skills\, burn energy\, and actually have fun doing it.$10. Show up ready.
URL:https://chaosathleticsnm.com/event/open-gym/2026-05-22/
CATEGORIES:Upcoming Events
ATTACH;FMTTYPE=image/png:https://chaosathleticsnm.com/wp-content/uploads/2026/04/Screenshot-2026-04-02-at-12.30.28-PM.png
END:VEVENT
BEGIN:VEVENT
DTSTART;TZID=UTC:20260523T180000
DTEND;TZID=UTC:20260523T193000
DTSTAMP:20260421T235930
CREATED:20260402T181906Z
LAST-MODIFIED:20260402T181906Z
UID:10000103-1779559200-1779564600@chaosathleticsnm.com
SUMMARY:Open Gym
DESCRIPTION:More reps. Less pressure.Come work skills\, burn energy\, and actually have fun doing it.$10. Show up ready.
URL:https://chaosathleticsnm.com/event/open-gym-2/2026-05-23/
CATEGORIES:Upcoming Events
ATTACH;FMTTYPE=image/png:https://chaosathleticsnm.com/wp-content/uploads/2026/04/Screenshot-2026-04-02-at-12.30.28-PM.png
END:VEVENT
BEGIN:VEVENT
DTSTART;TZID=UTC:20260525T190000
DTEND;TZID=UTC:20260525T203000
DTSTAMP:20260421T235930
CREATED:20260402T181553Z
LAST-MODIFIED:20260402T181713Z
UID:10000058-1779735600-1779741000@chaosathleticsnm.com
SUMMARY:Open Gym
DESCRIPTION:More reps. Less pressure.Come work skills\, burn energy\, and actually have fun doing it.$10. Show up ready.
URL:https://chaosathleticsnm.com/event/open-gym/2026-05-25/
CATEGORIES:Upcoming Events
ATTACH;FMTTYPE=image/png:https://chaosathleticsnm.com/wp-content/uploads/2026/04/Screenshot-2026-04-02-at-12.30.28-PM.png
END:VEVENT
BEGIN:VEVENT
DTSTART;TZID=UTC:20260527T190000
DTEND;TZID=UTC:20260527T203000
DTSTAMP:20260421T235930
CREATED:20260402T181553Z
LAST-MODIFIED:20260402T181713Z
UID:10000059-1779908400-1779913800@chaosathleticsnm.com
SUMMARY:Open Gym
DESCRIPTION:More reps. Less pressure.Come work skills\, burn energy\, and actually have fun doing it.$10. Show up ready.
URL:https://chaosathleticsnm.com/event/open-gym/2026-05-27/
CATEGORIES:Upcoming Events
ATTACH;FMTTYPE=image/png:https://chaosathleticsnm.com/wp-content/uploads/2026/04/Screenshot-2026-04-02-at-12.30.28-PM.png
END:VEVENT
BEGIN:VEVENT
DTSTART;TZID=UTC:20260529T190000
DTEND;TZID=UTC:20260529T203000
DTSTAMP:20260421T235930
CREATED:20260402T181553Z
LAST-MODIFIED:20260402T181713Z
UID:10000060-1780081200-1780086600@chaosathleticsnm.com
SUMMARY:Open Gym
DESCRIPTION:More reps. Less pressure.Come work skills\, burn energy\, and actually have fun doing it.$10. Show up ready.
URL:https://chaosathleticsnm.com/event/open-gym/2026-05-29/
CATEGORIES:Upcoming Events
ATTACH;FMTTYPE=image/png:https://chaosathleticsnm.com/wp-content/uploads/2026/04/Screenshot-2026-04-02-at-12.30.28-PM.png
END:VEVENT
BEGIN:VEVENT
DTSTART;TZID=UTC:20260530T180000
DTEND;TZID=UTC:20260530T193000
DTSTAMP:20260421T235930
CREATED:20260402T181906Z
LAST-MODIFIED:20260402T181906Z
UID:10000104-1780164000-1780169400@chaosathleticsnm.com
SUMMARY:Open Gym
DESCRIPTION:More reps. Less pressure.Come work skills\, burn energy\, and actually have fun doing it.$10. Show up ready.
URL:https://chaosathleticsnm.com/event/open-gym-2/2026-05-30/
CATEGORIES:Upcoming Events
ATTACH;FMTTYPE=image/png:https://chaosathleticsnm.com/wp-content/uploads/2026/04/Screenshot-2026-04-02-at-12.30.28-PM.png
END:VEVENT
BEGIN:VEVENT
DTSTART;TZID=UTC:20260601T190000
DTEND;TZID=UTC:20260601T203000
DTSTAMP:20260421T235930
CREATED:20260402T181553Z
LAST-MODIFIED:20260402T181713Z
UID:10000061-1780340400-1780345800@chaosathleticsnm.com
SUMMARY:Open Gym
DESCRIPTION:More reps. Less pressure.Come work skills\, burn energy\, and actually have fun doing it.$10. Show up ready.
URL:https://chaosathleticsnm.com/event/open-gym/2026-06-01/
CATEGORIES:Upcoming Events
ATTACH;FMTTYPE=image/png:https://chaosathleticsnm.com/wp-content/uploads/2026/04/Screenshot-2026-04-02-at-12.30.28-PM.png
END:VEVENT
BEGIN:VEVENT
DTSTART;TZID=UTC:20260603T190000
DTEND;TZID=UTC:20260603T203000
DTSTAMP:20260421T235930
CREATED:20260402T181553Z
LAST-MODIFIED:20260402T181713Z
UID:10000062-1780513200-1780518600@chaosathleticsnm.com
SUMMARY:Open Gym
DESCRIPTION:More reps. Less pressure.Come work skills\, burn energy\, and actually have fun doing it.$10. Show up ready.
URL:https://chaosathleticsnm.com/event/open-gym/2026-06-03/
CATEGORIES:Upcoming Events
ATTACH;FMTTYPE=image/png:https://chaosathleticsnm.com/wp-content/uploads/2026/04/Screenshot-2026-04-02-at-12.30.28-PM.png
END:VEVENT
BEGIN:VEVENT
DTSTART;TZID=UTC:20260605T190000
DTEND;TZID=UTC:20260605T203000
DTSTAMP:20260421T235930
CREATED:20260402T181553Z
LAST-MODIFIED:20260402T181713Z
UID:10000063-1780686000-1780691400@chaosathleticsnm.com
SUMMARY:Open Gym
DESCRIPTION:More reps. Less pressure.Come work skills\, burn energy\, and actually have fun doing it.$10. Show up ready.
URL:https://chaosathleticsnm.com/event/open-gym/2026-06-05/
CATEGORIES:Upcoming Events
ATTACH;FMTTYPE=image/png:https://chaosathleticsnm.com/wp-content/uploads/2026/04/Screenshot-2026-04-02-at-12.30.28-PM.png
END:VEVENT
BEGIN:VEVENT
DTSTART;TZID=UTC:20260606T180000
DTEND;TZID=UTC:20260606T193000
DTSTAMP:20260421T235930
CREATED:20260402T181906Z
LAST-MODIFIED:20260402T181906Z
UID:10000105-1780768800-1780774200@chaosathleticsnm.com
SUMMARY:Open Gym
DESCRIPTION:More reps. Less pressure.Come work skills\, burn energy\, and actually have fun doing it.$10. Show up ready.
URL:https://chaosathleticsnm.com/event/open-gym-2/2026-06-06/
CATEGORIES:Upcoming Events
ATTACH;FMTTYPE=image/png:https://chaosathleticsnm.com/wp-content/uploads/2026/04/Screenshot-2026-04-02-at-12.30.28-PM.png
END:VEVENT
BEGIN:VEVENT
DTSTART;TZID=UTC:20260608T190000
DTEND;TZID=UTC:20260608T203000
DTSTAMP:20260421T235930
CREATED:20260402T181553Z
LAST-MODIFIED:20260402T181713Z
UID:10000064-1780945200-1780950600@chaosathleticsnm.com
SUMMARY:Open Gym
DESCRIPTION:More reps. Less pressure.Come work skills\, burn energy\, and actually have fun doing it.$10. Show up ready.
URL:https://chaosathleticsnm.com/event/open-gym/2026-06-08/
CATEGORIES:Upcoming Events
ATTACH;FMTTYPE=image/png:https://chaosathleticsnm.com/wp-content/uploads/2026/04/Screenshot-2026-04-02-at-12.30.28-PM.png
END:VEVENT
BEGIN:VEVENT
DTSTART;TZID=UTC:20260610T190000
DTEND;TZID=UTC:20260610T203000
DTSTAMP:20260421T235930
CREATED:20260402T181553Z
LAST-MODIFIED:20260402T181713Z
UID:10000065-1781118000-1781123400@chaosathleticsnm.com
SUMMARY:Open Gym
DESCRIPTION:More reps. Less pressure.Come work skills\, burn energy\, and actually have fun doing it.$10. Show up ready.
URL:https://chaosathleticsnm.com/event/open-gym/2026-06-10/
CATEGORIES:Upcoming Events
ATTACH;FMTTYPE=image/png:https://chaosathleticsnm.com/wp-content/uploads/2026/04/Screenshot-2026-04-02-at-12.30.28-PM.png
END:VEVENT
BEGIN:VEVENT
DTSTART;TZID=UTC:20260613T180000
DTEND;TZID=UTC:20260613T193000
DTSTAMP:20260421T235930
CREATED:20260402T181906Z
LAST-MODIFIED:20260402T181906Z
UID:10000106-1781373600-1781379000@chaosathleticsnm.com
SUMMARY:Open Gym
DESCRIPTION:More reps. Less pressure.Come work skills\, burn energy\, and actually have fun doing it.$10. Show up ready.
URL:https://chaosathleticsnm.com/event/open-gym-2/2026-06-13/
CATEGORIES:Upcoming Events
ATTACH;FMTTYPE=image/png:https://chaosathleticsnm.com/wp-content/uploads/2026/04/Screenshot-2026-04-02-at-12.30.28-PM.png
END:VEVENT
BEGIN:VEVENT
DTSTART;TZID=UTC:20260620T180000
DTEND;TZID=UTC:20260620T193000
DTSTAMP:20260421T235930
CREATED:20260402T181906Z
LAST-MODIFIED:20260402T181906Z
UID:10000107-1781978400-1781983800@chaosathleticsnm.com
SUMMARY:Open Gym
DESCRIPTION:More reps. Less pressure.Come work skills\, burn energy\, and actually have fun doing it.$10. Show up ready.
URL:https://chaosathleticsnm.com/event/open-gym-2/2026-06-20/
CATEGORIES:Upcoming Events
ATTACH;FMTTYPE=image/png:https://chaosathleticsnm.com/wp-content/uploads/2026/04/Screenshot-2026-04-02-at-12.30.28-PM.png
END:VEVENT
BEGIN:VEVENT
DTSTART;TZID=UTC:20260627T180000
DTEND;TZID=UTC:20260627T193000
DTSTAMP:20260421T235930
CREATED:20260402T181906Z
LAST-MODIFIED:20260402T181906Z
UID:10000108-1782583200-1782588600@chaosathleticsnm.com
SUMMARY:Open Gym
DESCRIPTION:More reps. Less pressure.Come work skills\, burn energy\, and actually have fun doing it.$10. Show up ready.
URL:https://chaosathleticsnm.com/event/open-gym-2/2026-06-27/
CATEGORIES:Upcoming Events
ATTACH;FMTTYPE=image/png:https://chaosathleticsnm.com/wp-content/uploads/2026/04/Screenshot-2026-04-02-at-12.30.28-PM.png
END:VEVENT
BEGIN:VEVENT
DTSTART;TZID=UTC:20260704T180000
DTEND;TZID=UTC:20260704T193000
DTSTAMP:20260421T235930
CREATED:20260402T181906Z
LAST-MODIFIED:20260402T181906Z
UID:10000109-1783188000-1783193400@chaosathleticsnm.com
SUMMARY:Open Gym
DESCRIPTION:More reps. Less pressure.Come work skills\, burn energy\, and actually have fun doing it.$10. Show up ready.
URL:https://chaosathleticsnm.com/event/open-gym-2/2026-07-04/
CATEGORIES:Upcoming Events
ATTACH;FMTTYPE=image/png:https://chaosathleticsnm.com/wp-content/uploads/2026/04/Screenshot-2026-04-02-at-12.30.28-PM.png
END:VEVENT
BEGIN:VEVENT
DTSTART;TZID=UTC:20260711T180000
DTEND;TZID=UTC:20260711T193000
DTSTAMP:20260421T235930
CREATED:20260402T181906Z
LAST-MODIFIED:20260402T181906Z
UID:10000110-1783792800-1783798200@chaosathleticsnm.com
SUMMARY:Open Gym
DESCRIPTION:More reps. Less pressure.Come work skills\, burn energy\, and actually have fun doing it.$10. Show up ready.
URL:https://chaosathleticsnm.com/event/open-gym-2/2026-07-11/
CATEGORIES:Upcoming Events
ATTACH;FMTTYPE=image/png:https://chaosathleticsnm.com/wp-content/uploads/2026/04/Screenshot-2026-04-02-at-12.30.28-PM.png
END:VEVENT
BEGIN:VEVENT
DTSTART;TZID=UTC:20260718T180000
DTEND;TZID=UTC:20260718T193000
DTSTAMP:20260421T235930
CREATED:20260402T181906Z
LAST-MODIFIED:20260402T181906Z
UID:10000111-1784397600-1784403000@chaosathleticsnm.com
SUMMARY:Open Gym
DESCRIPTION:More reps. Less pressure.Come work skills\, burn energy\, and actually have fun doing it.$10. Show up ready.
URL:https://chaosathleticsnm.com/event/open-gym-2/2026-07-18/
CATEGORIES:Upcoming Events
ATTACH;FMTTYPE=image/png:https://chaosathleticsnm.com/wp-content/uploads/2026/04/Screenshot-2026-04-02-at-12.30.28-PM.png
END:VEVENT
BEGIN:VEVENT
DTSTART;TZID=UTC:20260725T180000
DTEND;TZID=UTC:20260725T193000
DTSTAMP:20260421T235930
CREATED:20260402T181906Z
LAST-MODIFIED:20260402T181906Z
UID:10000112-1785002400-1785007800@chaosathleticsnm.com
SUMMARY:Open Gym
DESCRIPTION:More reps. Less pressure.Come work skills\, burn energy\, and actually have fun doing it.$10. Show up ready.
URL:https://chaosathleticsnm.com/event/open-gym-2/2026-07-25/
CATEGORIES:Upcoming Events
ATTACH;FMTTYPE=image/png:https://chaosathleticsnm.com/wp-content/uploads/2026/04/Screenshot-2026-04-02-at-12.30.28-PM.png
END:VEVENT
BEGIN:VEVENT
DTSTART;TZID=UTC:20260801T180000
DTEND;TZID=UTC:20260801T193000
DTSTAMP:20260421T235930
CREATED:20260402T181906Z
LAST-MODIFIED:20260402T181906Z
UID:10000113-1785607200-1785612600@chaosathleticsnm.com
SUMMARY:Open Gym
DESCRIPTION:More reps. Less pressure.Come work skills\, burn energy\, and actually have fun doing it.$10. Show up ready.
URL:https://chaosathleticsnm.com/event/open-gym-2/2026-08-01/
CATEGORIES:Upcoming Events
ATTACH;FMTTYPE=image/png:https://chaosathleticsnm.com/wp-content/uploads/2026/04/Screenshot-2026-04-02-at-12.30.28-PM.png
END:VEVENT
END:VCALENDAR