BEGIN:VCALENDAR
VERSION:2.0
PRODID:-//Chaos Athletics - ECPv6.15.17.1//NONSGML v1.0//EN
CALSCALE:GREGORIAN
METHOD:PUBLISH
X-WR-CALNAME:Chaos Athletics
X-ORIGINAL-URL:https://chaosathleticsnm.com
X-WR-CALDESC:Events for Chaos Athletics
REFRESH-INTERVAL;VALUE=DURATION:PT1H
X-Robots-Tag:noindex
X-PUBLISHED-TTL:PT1H
BEGIN:VTIMEZONE
TZID:UTC
BEGIN:STANDARD
TZOFFSETFROM:+0000
TZOFFSETTO:+0000
TZNAME:UTC
DTSTART:20250101T000000
END:STANDARD
END:VTIMEZONE
BEGIN:VEVENT
DTSTART;TZID=UTC:20260523T180000
DTEND;TZID=UTC:20260523T193000
DTSTAMP:20260422T000241
CREATED:20260402T181906Z
LAST-MODIFIED:20260402T181906Z
UID:10000103-1779559200-1779564600@chaosathleticsnm.com
SUMMARY:Open Gym
DESCRIPTION:More reps. Less pressure.Come work skills\, burn energy\, and actually have fun doing it.$10. Show up ready.
URL:https://chaosathleticsnm.com/event/open-gym-2/2026-05-23/
CATEGORIES:Upcoming Events
ATTACH;FMTTYPE=image/png:https://chaosathleticsnm.com/wp-content/uploads/2026/04/Screenshot-2026-04-02-at-12.30.28-PM.png
END:VEVENT
BEGIN:VEVENT
DTSTART;TZID=UTC:20260522T190000
DTEND;TZID=UTC:20260522T203000
DTSTAMP:20260422T000241
CREATED:20260402T181553Z
LAST-MODIFIED:20260402T181713Z
UID:10000057-1779476400-1779481800@chaosathleticsnm.com
SUMMARY:Open Gym
DESCRIPTION:More reps. Less pressure.Come work skills\, burn energy\, and actually have fun doing it.$10. Show up ready.
URL:https://chaosathleticsnm.com/event/open-gym/2026-05-22/
CATEGORIES:Upcoming Events
ATTACH;FMTTYPE=image/png:https://chaosathleticsnm.com/wp-content/uploads/2026/04/Screenshot-2026-04-02-at-12.30.28-PM.png
END:VEVENT
BEGIN:VEVENT
DTSTART;TZID=UTC:20260520T190000
DTEND;TZID=UTC:20260520T203000
DTSTAMP:20260422T000241
CREATED:20260402T181553Z
LAST-MODIFIED:20260402T181713Z
UID:10000056-1779303600-1779309000@chaosathleticsnm.com
SUMMARY:Open Gym
DESCRIPTION:More reps. Less pressure.Come work skills\, burn energy\, and actually have fun doing it.$10. Show up ready.
URL:https://chaosathleticsnm.com/event/open-gym/2026-05-20/
CATEGORIES:Upcoming Events
ATTACH;FMTTYPE=image/png:https://chaosathleticsnm.com/wp-content/uploads/2026/04/Screenshot-2026-04-02-at-12.30.28-PM.png
END:VEVENT
BEGIN:VEVENT
DTSTART;TZID=UTC:20260518T190000
DTEND;TZID=UTC:20260518T203000
DTSTAMP:20260422T000241
CREATED:20260402T181553Z
LAST-MODIFIED:20260402T181713Z
UID:10000055-1779130800-1779136200@chaosathleticsnm.com
SUMMARY:Open Gym
DESCRIPTION:More reps. Less pressure.Come work skills\, burn energy\, and actually have fun doing it.$10. Show up ready.
URL:https://chaosathleticsnm.com/event/open-gym/2026-05-18/
CATEGORIES:Upcoming Events
ATTACH;FMTTYPE=image/png:https://chaosathleticsnm.com/wp-content/uploads/2026/04/Screenshot-2026-04-02-at-12.30.28-PM.png
END:VEVENT
BEGIN:VEVENT
DTSTART;TZID=UTC:20260516T180000
DTEND;TZID=UTC:20260516T193000
DTSTAMP:20260422T000241
CREATED:20260402T181906Z
LAST-MODIFIED:20260402T181906Z
UID:10000102-1778954400-1778959800@chaosathleticsnm.com
SUMMARY:Open Gym
DESCRIPTION:More reps. Less pressure.Come work skills\, burn energy\, and actually have fun doing it.$10. Show up ready.
URL:https://chaosathleticsnm.com/event/open-gym-2/2026-05-16/
CATEGORIES:Upcoming Events
ATTACH;FMTTYPE=image/png:https://chaosathleticsnm.com/wp-content/uploads/2026/04/Screenshot-2026-04-02-at-12.30.28-PM.png
END:VEVENT
BEGIN:VEVENT
DTSTART;TZID=UTC:20260515T190000
DTEND;TZID=UTC:20260515T203000
DTSTAMP:20260422T000241
CREATED:20260402T181553Z
LAST-MODIFIED:20260402T181713Z
UID:10000054-1778871600-1778877000@chaosathleticsnm.com
SUMMARY:Open Gym
DESCRIPTION:More reps. Less pressure.Come work skills\, burn energy\, and actually have fun doing it.$10. Show up ready.
URL:https://chaosathleticsnm.com/event/open-gym/2026-05-15/
CATEGORIES:Upcoming Events
ATTACH;FMTTYPE=image/png:https://chaosathleticsnm.com/wp-content/uploads/2026/04/Screenshot-2026-04-02-at-12.30.28-PM.png
END:VEVENT
BEGIN:VEVENT
DTSTART;TZID=UTC:20260513T190000
DTEND;TZID=UTC:20260513T203000
DTSTAMP:20260422T000241
CREATED:20260402T181553Z
LAST-MODIFIED:20260402T181713Z
UID:10000053-1778698800-1778704200@chaosathleticsnm.com
SUMMARY:Open Gym
DESCRIPTION:More reps. Less pressure.Come work skills\, burn energy\, and actually have fun doing it.$10. Show up ready.
URL:https://chaosathleticsnm.com/event/open-gym/2026-05-13/
CATEGORIES:Upcoming Events
ATTACH;FMTTYPE=image/png:https://chaosathleticsnm.com/wp-content/uploads/2026/04/Screenshot-2026-04-02-at-12.30.28-PM.png
END:VEVENT
BEGIN:VEVENT
DTSTART;TZID=UTC:20260511T190000
DTEND;TZID=UTC:20260511T203000
DTSTAMP:20260422T000241
CREATED:20260402T181553Z
LAST-MODIFIED:20260402T181713Z
UID:10000052-1778526000-1778531400@chaosathleticsnm.com
SUMMARY:Open Gym
DESCRIPTION:More reps. Less pressure.Come work skills\, burn energy\, and actually have fun doing it.$10. Show up ready.
URL:https://chaosathleticsnm.com/event/open-gym/2026-05-11/
CATEGORIES:Upcoming Events
ATTACH;FMTTYPE=image/png:https://chaosathleticsnm.com/wp-content/uploads/2026/04/Screenshot-2026-04-02-at-12.30.28-PM.png
END:VEVENT
BEGIN:VEVENT
DTSTART;TZID=UTC:20260509T180000
DTEND;TZID=UTC:20260509T193000
DTSTAMP:20260422T000241
CREATED:20260402T181906Z
LAST-MODIFIED:20260402T181906Z
UID:10000101-1778349600-1778355000@chaosathleticsnm.com
SUMMARY:Open Gym
DESCRIPTION:More reps. Less pressure.Come work skills\, burn energy\, and actually have fun doing it.$10. Show up ready.
URL:https://chaosathleticsnm.com/event/open-gym-2/2026-05-09/
CATEGORIES:Upcoming Events
ATTACH;FMTTYPE=image/png:https://chaosathleticsnm.com/wp-content/uploads/2026/04/Screenshot-2026-04-02-at-12.30.28-PM.png
END:VEVENT
BEGIN:VEVENT
DTSTART;TZID=UTC:20260508T190000
DTEND;TZID=UTC:20260508T203000
DTSTAMP:20260422T000241
CREATED:20260402T181553Z
LAST-MODIFIED:20260402T181713Z
UID:10000051-1778266800-1778272200@chaosathleticsnm.com
SUMMARY:Open Gym
DESCRIPTION:More reps. Less pressure.Come work skills\, burn energy\, and actually have fun doing it.$10. Show up ready.
URL:https://chaosathleticsnm.com/event/open-gym/2026-05-08/
CATEGORIES:Upcoming Events
ATTACH;FMTTYPE=image/png:https://chaosathleticsnm.com/wp-content/uploads/2026/04/Screenshot-2026-04-02-at-12.30.28-PM.png
END:VEVENT
BEGIN:VEVENT
DTSTART;TZID=UTC:20260506T190000
DTEND;TZID=UTC:20260506T203000
DTSTAMP:20260422T000241
CREATED:20260402T181553Z
LAST-MODIFIED:20260402T181713Z
UID:10000050-1778094000-1778099400@chaosathleticsnm.com
SUMMARY:Open Gym
DESCRIPTION:More reps. Less pressure.Come work skills\, burn energy\, and actually have fun doing it.$10. Show up ready.
URL:https://chaosathleticsnm.com/event/open-gym/2026-05-06/
CATEGORIES:Upcoming Events
ATTACH;FMTTYPE=image/png:https://chaosathleticsnm.com/wp-content/uploads/2026/04/Screenshot-2026-04-02-at-12.30.28-PM.png
END:VEVENT
BEGIN:VEVENT
DTSTART;TZID=UTC:20260504T190000
DTEND;TZID=UTC:20260504T203000
DTSTAMP:20260422T000241
CREATED:20260402T181553Z
LAST-MODIFIED:20260402T181713Z
UID:10000049-1777921200-1777926600@chaosathleticsnm.com
SUMMARY:Open Gym
DESCRIPTION:More reps. Less pressure.Come work skills\, burn energy\, and actually have fun doing it.$10. Show up ready.
URL:https://chaosathleticsnm.com/event/open-gym/2026-05-04/
CATEGORIES:Upcoming Events
ATTACH;FMTTYPE=image/png:https://chaosathleticsnm.com/wp-content/uploads/2026/04/Screenshot-2026-04-02-at-12.30.28-PM.png
END:VEVENT
BEGIN:VEVENT
DTSTART;TZID=UTC:20260502T180000
DTEND;TZID=UTC:20260502T193000
DTSTAMP:20260422T000241
CREATED:20260402T181906Z
LAST-MODIFIED:20260402T181906Z
UID:10000100-1777744800-1777750200@chaosathleticsnm.com
SUMMARY:Open Gym
DESCRIPTION:More reps. Less pressure.Come work skills\, burn energy\, and actually have fun doing it.$10. Show up ready.
URL:https://chaosathleticsnm.com/event/open-gym-2/2026-05-02/
CATEGORIES:Upcoming Events
ATTACH;FMTTYPE=image/png:https://chaosathleticsnm.com/wp-content/uploads/2026/04/Screenshot-2026-04-02-at-12.30.28-PM.png
END:VEVENT
BEGIN:VEVENT
DTSTART;TZID=UTC:20260501T190000
DTEND;TZID=UTC:20260501T203000
DTSTAMP:20260422T000241
CREATED:20260402T181553Z
LAST-MODIFIED:20260402T181713Z
UID:10000048-1777662000-1777667400@chaosathleticsnm.com
SUMMARY:Open Gym
DESCRIPTION:More reps. Less pressure.Come work skills\, burn energy\, and actually have fun doing it.$10. Show up ready.
URL:https://chaosathleticsnm.com/event/open-gym/2026-05-01/
CATEGORIES:Upcoming Events
ATTACH;FMTTYPE=image/png:https://chaosathleticsnm.com/wp-content/uploads/2026/04/Screenshot-2026-04-02-at-12.30.28-PM.png
END:VEVENT
BEGIN:VEVENT
DTSTART;TZID=UTC:20260429T190000
DTEND;TZID=UTC:20260429T203000
DTSTAMP:20260422T000241
CREATED:20260402T181553Z
LAST-MODIFIED:20260402T181713Z
UID:10000047-1777489200-1777494600@chaosathleticsnm.com
SUMMARY:Open Gym
DESCRIPTION:More reps. Less pressure.Come work skills\, burn energy\, and actually have fun doing it.$10. Show up ready.
URL:https://chaosathleticsnm.com/event/open-gym/2026-04-29/
CATEGORIES:Upcoming Events
ATTACH;FMTTYPE=image/png:https://chaosathleticsnm.com/wp-content/uploads/2026/04/Screenshot-2026-04-02-at-12.30.28-PM.png
END:VEVENT
BEGIN:VEVENT
DTSTART;TZID=UTC:20260427T190000
DTEND;TZID=UTC:20260427T203000
DTSTAMP:20260422T000241
CREATED:20260402T181553Z
LAST-MODIFIED:20260402T181713Z
UID:10000046-1777316400-1777321800@chaosathleticsnm.com
SUMMARY:Open Gym
DESCRIPTION:More reps. Less pressure.Come work skills\, burn energy\, and actually have fun doing it.$10. Show up ready.
URL:https://chaosathleticsnm.com/event/open-gym/2026-04-27/
CATEGORIES:Upcoming Events
ATTACH;FMTTYPE=image/png:https://chaosathleticsnm.com/wp-content/uploads/2026/04/Screenshot-2026-04-02-at-12.30.28-PM.png
END:VEVENT
BEGIN:VEVENT
DTSTART;TZID=UTC:20260425T180000
DTEND;TZID=UTC:20260425T193000
DTSTAMP:20260422T000241
CREATED:20260402T181906Z
LAST-MODIFIED:20260402T181906Z
UID:10000099-1777140000-1777145400@chaosathleticsnm.com
SUMMARY:Open Gym
DESCRIPTION:More reps. Less pressure.Come work skills\, burn energy\, and actually have fun doing it.$10. Show up ready.
URL:https://chaosathleticsnm.com/event/open-gym-2/2026-04-25/
CATEGORIES:Upcoming Events
ATTACH;FMTTYPE=image/png:https://chaosathleticsnm.com/wp-content/uploads/2026/04/Screenshot-2026-04-02-at-12.30.28-PM.png
END:VEVENT
BEGIN:VEVENT
DTSTART;TZID=UTC:20260424T190000
DTEND;TZID=UTC:20260424T203000
DTSTAMP:20260422T000241
CREATED:20260402T181553Z
LAST-MODIFIED:20260402T181713Z
UID:10000045-1777057200-1777062600@chaosathleticsnm.com
SUMMARY:Open Gym
DESCRIPTION:More reps. Less pressure.Come work skills\, burn energy\, and actually have fun doing it.$10. Show up ready.
URL:https://chaosathleticsnm.com/event/open-gym/2026-04-24/
CATEGORIES:Upcoming Events
ATTACH;FMTTYPE=image/png:https://chaosathleticsnm.com/wp-content/uploads/2026/04/Screenshot-2026-04-02-at-12.30.28-PM.png
END:VEVENT
BEGIN:VEVENT
DTSTART;TZID=UTC:20260422T190000
DTEND;TZID=UTC:20260422T203000
DTSTAMP:20260422T000241
CREATED:20260402T181553Z
LAST-MODIFIED:20260402T181713Z
UID:10000044-1776884400-1776889800@chaosathleticsnm.com
SUMMARY:Open Gym
DESCRIPTION:More reps. Less pressure.Come work skills\, burn energy\, and actually have fun doing it.$10. Show up ready.
URL:https://chaosathleticsnm.com/event/open-gym/2026-04-22/
CATEGORIES:Upcoming Events
ATTACH;FMTTYPE=image/png:https://chaosathleticsnm.com/wp-content/uploads/2026/04/Screenshot-2026-04-02-at-12.30.28-PM.png
END:VEVENT
BEGIN:VEVENT
DTSTART;TZID=UTC:20260420T190000
DTEND;TZID=UTC:20260420T203000
DTSTAMP:20260422T000241
CREATED:20260402T181553Z
LAST-MODIFIED:20260402T181713Z
UID:10000043-1776711600-1776717000@chaosathleticsnm.com
SUMMARY:Open Gym
DESCRIPTION:More reps. Less pressure.Come work skills\, burn energy\, and actually have fun doing it.$10. Show up ready.
URL:https://chaosathleticsnm.com/event/open-gym/2026-04-20/
CATEGORIES:Upcoming Events
ATTACH;FMTTYPE=image/png:https://chaosathleticsnm.com/wp-content/uploads/2026/04/Screenshot-2026-04-02-at-12.30.28-PM.png
END:VEVENT
BEGIN:VEVENT
DTSTART;TZID=UTC:20260418T180000
DTEND;TZID=UTC:20260418T193000
DTSTAMP:20260422T000241
CREATED:20260402T181906Z
LAST-MODIFIED:20260402T181906Z
UID:10000098-1776535200-1776540600@chaosathleticsnm.com
SUMMARY:Open Gym
DESCRIPTION:More reps. Less pressure.Come work skills\, burn energy\, and actually have fun doing it.$10. Show up ready.
URL:https://chaosathleticsnm.com/event/open-gym-2/2026-04-18/
CATEGORIES:Upcoming Events
ATTACH;FMTTYPE=image/png:https://chaosathleticsnm.com/wp-content/uploads/2026/04/Screenshot-2026-04-02-at-12.30.28-PM.png
END:VEVENT
BEGIN:VEVENT
DTSTART;TZID=UTC:20260417T190000
DTEND;TZID=UTC:20260417T203000
DTSTAMP:20260422T000241
CREATED:20260402T181553Z
LAST-MODIFIED:20260402T181713Z
UID:10000042-1776452400-1776457800@chaosathleticsnm.com
SUMMARY:Open Gym
DESCRIPTION:More reps. Less pressure.Come work skills\, burn energy\, and actually have fun doing it.$10. Show up ready.
URL:https://chaosathleticsnm.com/event/open-gym/2026-04-17/
CATEGORIES:Upcoming Events
ATTACH;FMTTYPE=image/png:https://chaosathleticsnm.com/wp-content/uploads/2026/04/Screenshot-2026-04-02-at-12.30.28-PM.png
END:VEVENT
BEGIN:VEVENT
DTSTART;TZID=UTC:20260415T190000
DTEND;TZID=UTC:20260415T203000
DTSTAMP:20260422T000241
CREATED:20260402T181553Z
LAST-MODIFIED:20260402T181713Z
UID:10000041-1776279600-1776285000@chaosathleticsnm.com
SUMMARY:Open Gym
DESCRIPTION:More reps. Less pressure.Come work skills\, burn energy\, and actually have fun doing it.$10. Show up ready.
URL:https://chaosathleticsnm.com/event/open-gym/2026-04-15/
CATEGORIES:Upcoming Events
ATTACH;FMTTYPE=image/png:https://chaosathleticsnm.com/wp-content/uploads/2026/04/Screenshot-2026-04-02-at-12.30.28-PM.png
END:VEVENT
BEGIN:VEVENT
DTSTART;TZID=UTC:20260413T190000
DTEND;TZID=UTC:20260413T203000
DTSTAMP:20260422T000241
CREATED:20260402T181553Z
LAST-MODIFIED:20260402T181713Z
UID:10000040-1776106800-1776112200@chaosathleticsnm.com
SUMMARY:Open Gym
DESCRIPTION:More reps. Less pressure.Come work skills\, burn energy\, and actually have fun doing it.$10. Show up ready.
URL:https://chaosathleticsnm.com/event/open-gym/2026-04-13/
CATEGORIES:Upcoming Events
ATTACH;FMTTYPE=image/png:https://chaosathleticsnm.com/wp-content/uploads/2026/04/Screenshot-2026-04-02-at-12.30.28-PM.png
END:VEVENT
BEGIN:VEVENT
DTSTART;TZID=UTC:20260411T180000
DTEND;TZID=UTC:20260411T193000
DTSTAMP:20260422T000241
CREATED:20260402T181906Z
LAST-MODIFIED:20260402T181906Z
UID:10000097-1775930400-1775935800@chaosathleticsnm.com
SUMMARY:Open Gym
DESCRIPTION:More reps. Less pressure.Come work skills\, burn energy\, and actually have fun doing it.$10. Show up ready.
URL:https://chaosathleticsnm.com/event/open-gym-2/2026-04-11/
CATEGORIES:Upcoming Events
ATTACH;FMTTYPE=image/png:https://chaosathleticsnm.com/wp-content/uploads/2026/04/Screenshot-2026-04-02-at-12.30.28-PM.png
END:VEVENT
BEGIN:VEVENT
DTSTART;TZID=UTC:20260410T190000
DTEND;TZID=UTC:20260410T203000
DTSTAMP:20260422T000241
CREATED:20260402T181553Z
LAST-MODIFIED:20260402T181713Z
UID:10000039-1775847600-1775853000@chaosathleticsnm.com
SUMMARY:Open Gym
DESCRIPTION:More reps. Less pressure.Come work skills\, burn energy\, and actually have fun doing it.$10. Show up ready.
URL:https://chaosathleticsnm.com/event/open-gym/2026-04-10/
CATEGORIES:Upcoming Events
ATTACH;FMTTYPE=image/png:https://chaosathleticsnm.com/wp-content/uploads/2026/04/Screenshot-2026-04-02-at-12.30.28-PM.png
END:VEVENT
BEGIN:VEVENT
DTSTART;TZID=UTC:20260408T190000
DTEND;TZID=UTC:20260408T203000
DTSTAMP:20260422T000241
CREATED:20260402T181553Z
LAST-MODIFIED:20260402T181713Z
UID:10000038-1775674800-1775680200@chaosathleticsnm.com
SUMMARY:Open Gym
DESCRIPTION:More reps. Less pressure.Come work skills\, burn energy\, and actually have fun doing it.$10. Show up ready.
URL:https://chaosathleticsnm.com/event/open-gym/2026-04-08/
CATEGORIES:Upcoming Events
ATTACH;FMTTYPE=image/png:https://chaosathleticsnm.com/wp-content/uploads/2026/04/Screenshot-2026-04-02-at-12.30.28-PM.png
END:VEVENT
BEGIN:VEVENT
DTSTART;TZID=UTC:20260406T190000
DTEND;TZID=UTC:20260406T203000
DTSTAMP:20260422T000241
CREATED:20260402T181553Z
LAST-MODIFIED:20260402T181713Z
UID:10000037-1775502000-1775507400@chaosathleticsnm.com
SUMMARY:Open Gym
DESCRIPTION:More reps. Less pressure.Come work skills\, burn energy\, and actually have fun doing it.$10. Show up ready.
URL:https://chaosathleticsnm.com/event/open-gym/2026-04-06/
CATEGORIES:Upcoming Events
ATTACH;FMTTYPE=image/png:https://chaosathleticsnm.com/wp-content/uploads/2026/04/Screenshot-2026-04-02-at-12.30.28-PM.png
END:VEVENT
BEGIN:VEVENT
DTSTART;TZID=UTC:20260404T180000
DTEND;TZID=UTC:20260404T193000
DTSTAMP:20260422T000241
CREATED:20260402T181906Z
LAST-MODIFIED:20260402T181906Z
UID:10000096-1775325600-1775331000@chaosathleticsnm.com
SUMMARY:Open Gym
DESCRIPTION:More reps. Less pressure.Come work skills\, burn energy\, and actually have fun doing it.$10. Show up ready.
URL:https://chaosathleticsnm.com/event/open-gym-2/2026-04-04/
CATEGORIES:Upcoming Events
ATTACH;FMTTYPE=image/png:https://chaosathleticsnm.com/wp-content/uploads/2026/04/Screenshot-2026-04-02-at-12.30.28-PM.png
END:VEVENT
BEGIN:VEVENT
DTSTART;TZID=UTC:20260403T190000
DTEND;TZID=UTC:20260403T203000
DTSTAMP:20260422T000241
CREATED:20260402T181553Z
LAST-MODIFIED:20260402T181713Z
UID:10000036-1775242800-1775248200@chaosathleticsnm.com
SUMMARY:Open Gym
DESCRIPTION:More reps. Less pressure.Come work skills\, burn energy\, and actually have fun doing it.$10. Show up ready.
URL:https://chaosathleticsnm.com/event/open-gym/2026-04-03/
CATEGORIES:Upcoming Events
ATTACH;FMTTYPE=image/png:https://chaosathleticsnm.com/wp-content/uploads/2026/04/Screenshot-2026-04-02-at-12.30.28-PM.png
END:VEVENT
END:VCALENDAR